BEGIN:VCALENDAR
VERSION:2.0
PRODID:-//hacksw/handcal//NONSGML v1.0//EN
CALSCALE:GREGORIAN
BEGIN:VEVENT
X-WR-TIMEZONE:Europe/Prague
LOCATION:Heršpická 1029/11e\, 639 00 Brno
DESCRIPTION:Den otevřenýc dřevostaveb - Centrum dřevostaveb Brno
DTSTART:20251004T000000
DTEND:20251004T000000
SUMMARY:Den otevřenýc dřevostaveb - Centrum dřevostaveb Brno
URL;VALUE=URI:https://admd.cz/dod/centrum-drevostaveb-brno
DTSTAMP:20260425T173705
UID:69ecdfa12f74d
END:VEVENT
END:VCALENDAR