BEGIN:VCALENDAR
VERSION:2.0
PRODID:-//hacksw/handcal//NONSGML v1.0//EN
CALSCALE:GREGORIAN
BEGIN:VEVENT
X-WR-TIMEZONE:Europe/Prague
LOCATION:Přesnou adresu obdržíte po registraci.
DESCRIPTION:Den otevřenýc dřevostaveb - Nova 109 otevřená do krovu okr. Kladno
DTSTART:20251004T000000
DTEND:20251004T000000
SUMMARY:Den otevřenýc dřevostaveb - Nova 109 otevřená do krovu okr. Kladno
URL;VALUE=URI:https://admd.cz/dod/nova-109-otevrena-do-krovu
DTSTAMP:20260425T172930
UID:69ecddda14d04
END:VEVENT
END:VCALENDAR