BEGIN:VCALENDAR
VERSION:2.0
PRODID:-//hacksw/handcal//NONSGML v1.0//EN
CALSCALE:GREGORIAN
BEGIN:VEVENT
X-WR-TIMEZONE:Europe/Prague
LOCATION:obec Kostice\, ulice Vinohradní
DESCRIPTION:Den otevřenýc dřevostaveb - Novostavba RD Kostice
DTSTART:20251004T000000
DTEND:20251004T000000
SUMMARY:Den otevřenýc dřevostaveb - Novostavba RD Kostice
URL;VALUE=URI:https://admd.cz/dod/novostavba-rd-kostice
DTSTAMP:20260425T172930
UID:69ecddda11e47
END:VEVENT
END:VCALENDAR