BEGIN:VCALENDAR
VERSION:2.0
PRODID:-//hacksw/handcal//NONSGML v1.0//EN
CALSCALE:GREGORIAN
BEGIN:VEVENT
X-WR-TIMEZONE:Europe/Prague
LOCATION:ulice Ottova (konec ulice\, je slepá)\, Praha Zbraslav
DESCRIPTION:Den otevřenýc dřevostaveb - Moderní domy Ottova
DTSTART:20251004T000000
DTEND:20251004T000000
SUMMARY:Den otevřenýc dřevostaveb - Moderní domy Ottova
URL;VALUE=URI:https://admd.cz/dod/novostavba-rodinnych-domu-ottova
DTSTAMP:20260425T173237
UID:69ecde95ea099
END:VEVENT
END:VCALENDAR