BEGIN:VCALENDAR
VERSION:2.0
PRODID:-//hacksw/handcal//NONSGML v1.0//EN
CALSCALE:GREGORIAN
BEGIN:VEVENT
X-WR-TIMEZONE:Europe/Prague
LOCATION:U Vinohradu\, Nový Šaldorf 671 81
DESCRIPTION:Den otevřenýc dřevostaveb - Objekt pro rekreaci
DTSTART:20251004T000000
DTEND:20251004T000000
SUMMARY:Den otevřenýc dřevostaveb - Objekt pro rekreaci
URL;VALUE=URI:https://admd.cz/dod/objekt-pro-rekreaci
DTSTAMP:20260425T172900
UID:69ecddbc96892
END:VEVENT
END:VCALENDAR