BEGIN:VCALENDAR
VERSION:2.0
PRODID:-//hacksw/handcal//NONSGML v1.0//EN
CALSCALE:GREGORIAN
BEGIN:VEVENT
X-WR-TIMEZONE:Europe/Prague
LOCATION:Heřmaničky 118\, Heřmaničky 257 89
DESCRIPTION:Den otevřenýc dřevostaveb - PASIVNÍ DŮM
DTSTART:20251004T000000
DTEND:20251004T000000
SUMMARY:Den otevřenýc dřevostaveb - PASIVNÍ DŮM
URL;VALUE=URI:https://admd.cz/dod/pasivni-dum
DTSTAMP:20260425T172900
UID:69ecddbc236bd
END:VEVENT
END:VCALENDAR