BEGIN:VCALENDAR
VERSION:2.0
PRODID:-//hacksw/handcal//NONSGML v1.0//EN
CALSCALE:GREGORIAN
BEGIN:VEVENT
X-WR-TIMEZONE:Europe/Prague
LOCATION:Adresu domu obdržíte po registraci.
DESCRIPTION:Den otevřenýc dřevostaveb - Patrový individuální rodinný dům okr. Olomouc
DTSTART:20251004T000000
DTEND:20251004T000000
SUMMARY:Den otevřenýc dřevostaveb - Patrový individuální rodinný dům okr. Olomouc
URL;VALUE=URI:https://admd.cz/dod/patrovy-individualni-rodinny-dum
DTSTAMP:20260425T174324
UID:69ece11ccdf3e
END:VEVENT
END:VCALENDAR