BEGIN:VCALENDAR
VERSION:2.0
PRODID:-//hacksw/handcal//NONSGML v1.0//EN
CALSCALE:GREGORIAN
BEGIN:VEVENT
X-WR-TIMEZONE:Europe/Prague
LOCATION:Závodí 70\, Dědice u Vyškova
DESCRIPTION:Den otevřenýc dřevostaveb - RD Dědice u Vyškova
DTSTART:20251004T000000
DTEND:20251004T000000
SUMMARY:Den otevřenýc dřevostaveb - RD Dědice u Vyškova
URL;VALUE=URI:https://admd.cz/dod/rd-dedice-u-vyskova
DTSTAMP:20260425T173704
UID:69ecdfa07ca39
END:VEVENT
END:VCALENDAR