BEGIN:VCALENDAR
VERSION:2.0
PRODID:-//hacksw/handcal//NONSGML v1.0//EN
CALSCALE:GREGORIAN
BEGIN:VEVENT
X-WR-TIMEZONE:Europe/Prague
LOCATION:Na Vyhlídce\, Rosice 665 01
DESCRIPTION:Den otevřenýc dřevostaveb - RD Rosice
DTSTART:20251004T000000
DTEND:20251004T000000
SUMMARY:Den otevřenýc dřevostaveb - RD Rosice
URL;VALUE=URI:https://admd.cz/dod/rd-rosice
DTSTAMP:20260425T173639
UID:69ecdf87d563d
END:VEVENT
END:VCALENDAR