BEGIN:VCALENDAR
VERSION:2.0
PRODID:-//hacksw/handcal//NONSGML v1.0//EN
CALSCALE:GREGORIAN
BEGIN:VEVENT
X-WR-TIMEZONE:Europe/Prague
LOCATION:Nemá adresu
DESCRIPTION:Den otevřenýc dřevostaveb - RD Uhřice vestavba ve stodole
DTSTART:20251004T000000
DTEND:20251004T000000
SUMMARY:Den otevřenýc dřevostaveb - RD Uhřice vestavba ve stodole
URL;VALUE=URI:https://admd.cz/dod/rd-uhrice-vestavba-ve-stodole
DTSTAMP:20260425T173213
UID:69ecde7db9fc1
END:VEVENT
END:VCALENDAR