BEGIN:VCALENDAR
VERSION:2.0
PRODID:-//hacksw/handcal//NONSGML v1.0//EN
CALSCALE:GREGORIAN
BEGIN:VEVENT
X-WR-TIMEZONE:Europe/Prague
LOCATION:Nové Dvory 91\, 592 12 Nové Dvory
DESCRIPTION:Den otevřenýc dřevostaveb - VERITAS+
DTSTART:20251004T000000
DTEND:20251004T000000
SUMMARY:Den otevřenýc dřevostaveb - VERITAS+
URL;VALUE=URI:https://admd.cz/dod/veritas-
DTSTAMP:20260425T173705
UID:69ecdfa1a7f9b
END:VEVENT
END:VCALENDAR