BEGIN:VCALENDAR
VERSION:2.0
PRODID:-//hacksw/handcal//NONSGML v1.0//EN
CALSCALE:GREGORIAN
BEGIN:VEVENT
X-WR-TIMEZONE:Europe/Prague
LOCATION:Náchodská 730\, 503 01 Hradec Králové
DESCRIPTION:Den otevřenýc dřevostaveb - Výrobní závod společnosti MS HAUS s.r.o.
DTSTART:20251004T000000
DTEND:20251004T000000
SUMMARY:Den otevřenýc dřevostaveb - Výrobní závod společnosti MS HAUS s.r.o.
URL;VALUE=URI:https://admd.cz/dod/vyrobni-zavod-spolecnosti-ms-haus-sro
DTSTAMP:20260425T173709
UID:69ecdfa5f334e
END:VEVENT
END:VCALENDAR