BEGIN:VCALENDAR
VERSION:2.0
PRODID:-//hacksw/handcal//NONSGML v1.0//EN
CALSCALE:GREGORIAN
BEGIN:VEVENT
X-WR-TIMEZONE:Europe/Prague
LOCATION:U Váhy 1500\, 250 92 Šestajovice\, Praha - východ
DESCRIPTION:Den otevřenýc dřevostaveb - Vzorový dům VEXTA 149 s garáží
DTSTART:20251004T000000
DTEND:20251004T000000
SUMMARY:Den otevřenýc dřevostaveb - Vzorový dům VEXTA 149 s garáží
URL;VALUE=URI:https://admd.cz/dod/vzorovy-dum-cechyvexta
DTSTAMP:20260425T173711
UID:69ecdfa72ae4e
END:VEVENT
END:VCALENDAR